BEGIN:VCALENDAR
VERSION:2.0
PRODID:-//Puttenham Parish Council//Meeting Calendar//EN
CALSCALE:GREGORIAN
METHOD:PUBLISH
BEGIN:VEVENT
UID:70781-20250310@puttenham-pc.gov.uk
DTSTAMP:20260422T091628Z
DTSTART;VALUE=DATE:20250310
DTEND;VALUE=DATE:20250311
SUMMARY:10th March 2025 Parish Council Meeting
DESCRIPTION:Full Council Meeting\nView details: https://puttenham-pc.gov.uk/meetings/parish-council-meeting-5/
URL:https://puttenham-pc.gov.uk/meetings/parish-council-meeting-5/
END:VEVENT
END:VCALENDAR
