BEGIN:VCALENDAR
VERSION:2.0
PRODID:-//Puttenham Parish Council//Meeting Calendar//EN
CALSCALE:GREGORIAN
METHOD:PUBLISH
BEGIN:VEVENT
UID:70784-20250113@puttenham-pc.gov.uk
DTSTAMP:20260421T083212Z
DTSTART;VALUE=DATE:20250113
DTEND;VALUE=DATE:20250114
SUMMARY:13th January 2025 Parish Council Meeting
DESCRIPTION:Full Council Meeting\nView details: https://puttenham-pc.gov.uk/meetings/meeting-name-here-2/
URL:https://puttenham-pc.gov.uk/meetings/meeting-name-here-2/
END:VEVENT
END:VCALENDAR
